BEGIN:VCALENDAR
VERSION:2.0
PRODID:-//SP Saúde - ECPv6.5.1.5//NONSGML v1.0//EN
CALSCALE:GREGORIAN
METHOD:PUBLISH
X-WR-CALNAME:SP Saúde
X-ORIGINAL-URL:https://portaldenoticias.saude.sp.gov.br
X-WR-CALDESC:Eventos para SP Saúde
REFRESH-INTERVAL;VALUE=DURATION:PT1H
X-Robots-Tag:noindex
X-PUBLISHED-TTL:PT1H
BEGIN:VTIMEZONE
TZID:America/Sao_Paulo
BEGIN:STANDARD
TZOFFSETFROM:-0300
TZOFFSETTO:-0300
TZNAME:-03
DTSTART:20250101T000000
END:STANDARD
END:VTIMEZONE
BEGIN:VEVENT
DTSTART;VALUE=DATE:20250422
DTEND;VALUE=DATE:20250423
DTSTAMP:20260424T120541
CREATED:20250423T140800Z
LAST-MODIFIED:20250423T140800Z
UID:31139-1745280000-1745366399@portaldenoticias.saude.sp.gov.br
SUMMARY:Secretário de Estado da Saúde Eleuses Paiva
DESCRIPTION:10h – Reunião com a deputada federal Renata Abreu; Kayo Amado\, prefeito de São Vicente e Michelle Santos\, secretária municipal de Saúde\nPauta: convênio com a Maternidade São Vicente\nLocal: SES/Gabinete \n11h – Reunião com o Deputado Federal Fausto Pinato\nPauta: construção do Hospital de Autista em Fernandópolis\nLocal: SES/Gabinete \n14h30 – Reunião com Felipe Antônio Colaço Bernardo\, prefeito de Peruíbe; e Paolo Bianchi\, secretário municipal de saúde\nPauta: demandas da região\nLocal: SES/Gabinete \n15h – Reunião com o deputado estadual Edson Giriboni; Júlio Fernando\, prefeito de Capão Bonito; Roberto Tamura\, vice-prefeito; Sérgio Victor Barbosa\, prefeito de Apiaí e presidente do Consórcio de Desenvolvimento das Regiões Sul e Sudoeste do Estado de São Paulo (Condersul); Alan Senciatti\, presidente da Câmara Municipal de Capão Bonito e a vereadora Sílvia Lopes; e a assessora Gabriela Siqueira\nPauta: estrutura da Saúde na Região do Condersul\nLocal: SES/Gabinete \n15h30 – Reunião com Célia Matos\, prefeita de Mirassolândia; Aldo José Docusse\, vice-prefeito; e a vereadora Renata Brigatti\nPauta: demandas da região\nLocal: SES/Gabinete \n16h – Reunião com o deputado estadual Ricardo Madalena; Emerson Camargo\, prefeito de Jaboticabal; Andréa Fogaça Nogueira\, vice-prefeita de Jaboticabal; Paulo Roque\, prefeito de Itatinga; João Lopes\, chefe de gabinete de Itatinga; Aldo Paulo Martin\, diretor geral de saúde de Itatinga; vereador de Itapeva\, Marcelo Poli; e os assessores Aline Oliveira\, Fernanda Poli\, e Adênia Batista\nPauta: recursos para equipamentos da Santa Casa de Itapeva\, veículo para uso da Secretaria Municipal de Itatinga e recursos para aquisição de aparelho de Raio-X para o Hospital Santa Terezinha e Maternidade Ercília Pieroni de Itatinga\nLocal: SES/Gabinete \n17h –  Reunião com o deputado estadual Barros Munhoz; Michele Nepomuceno\, chefe de gabinete; Ogari de Castro Pacheco\, presidente executivo do Laboratório Cristália; Rogério Almeida\, vice-presidente do Laboratório Cristália; e o assessor Guilherme Tarin\nPauta: Laboratório Cristália\nLocal: SES/Gabinete
URL:https://portaldenoticias.saude.sp.gov.br/agenda/secretario-de-estado-da-saude-eleuses-paiva-166/
END:VEVENT
END:VCALENDAR