BEGIN:VCALENDAR
VERSION:2.0
PRODID:-//SP Saúde - ECPv6.5.1.5//NONSGML v1.0//EN
CALSCALE:GREGORIAN
METHOD:PUBLISH
X-ORIGINAL-URL:https://portaldenoticias.saude.sp.gov.br
X-WR-CALDESC:Eventos para SP Saúde
REFRESH-INTERVAL;VALUE=DURATION:PT1H
X-Robots-Tag:noindex
X-PUBLISHED-TTL:PT1H
BEGIN:VTIMEZONE
TZID:America/Sao_Paulo
BEGIN:STANDARD
TZOFFSETFROM:-0300
TZOFFSETTO:-0300
TZNAME:-03
DTSTART:20250101T000000
END:STANDARD
END:VTIMEZONE
BEGIN:VEVENT
DTSTART;VALUE=DATE:20250424
DTEND;VALUE=DATE:20250425
DTSTAMP:20260424T092947
CREATED:20250424T190348Z
LAST-MODIFIED:20250424T191654Z
UID:31146-1745452800-1745539199@portaldenoticias.saude.sp.gov.br
SUMMARY:Secretário de Estado da Saúde Eleuses Paiva
DESCRIPTION:12h – Reunião com o deputado André do Prado\, presidente da Assembleia Legislativa do Estado de São Paulo (Alesp) e Vinícius Camarinha\, prefeito de Marília\nPauta: demandas da região\nLocal: SES/Gabinete \n12h30 – Reunião com o deputado André do Prado\, presidente da Assembleia Legislativa do Estado de São Paulo (Alesp); Luís Claudio Lapena Barreto\, prefeito de Araraquara; Leandro Guidolin\, secretário de governo e Paula Cardoso\, secretária de comunicação\nPauta: Hospital de Queimados e equipamentos para Santa Casa\nLocal: SES/Gabinete \n13h – Reunião com o deputado André do Prado\, presidente da Assembleia Legislativa do Estado de São Paulo (Alesp); Marcelo Vilares\, prefeito de Bertioga; Lucília Goulart\, vice-prefeita; Fabiana Pavani\, secretária municipal da Saúde; Mirian Cajazeiras\, secretária municipal da Fazenda; Fernando Machado\, do Jurídico; e os assessores Elisângela Dias e João Vitor Souza\nPauta: Inauguração do Hospital\nLocal: SES/Gabinete \n16h – Reunião com o Frei Francisco Belotti\, presidente Associação Lar São Francisco de Assis na Providência de Deus; e o diretor financeiro\, Wellington Marcio de Angelo – “Deco”\nPauta: Hospital Regional de Presidente Prudente\, Hospital Universitário São Francisco/Husf–Bragança Paulista\, Santa Rita do Passa Quatro\, Hospital São Pedro na Providência de Deus e o novo Hospital de Mirassol\nLocal: SES/Gabinete \n17h– Reunião com a ex-deputada Rita Passos; Herculano Castilho Passos\, prefeito de Itu; Tiago Texeira\, secretário municipal de Saúde\nPauta: Santa Casa de Itu\nLocal: SES/Gabinete
URL:https://portaldenoticias.saude.sp.gov.br/agenda/secretario-de-estado-da-saude-eleuses-paiva-168/
END:VEVENT
END:VCALENDAR