BEGIN:VCALENDAR
VERSION:2.0
PRODID:-//SP Saúde - ECPv6.5.1.5//NONSGML v1.0//EN
CALSCALE:GREGORIAN
METHOD:PUBLISH
X-WR-CALNAME:SP Saúde
X-ORIGINAL-URL:https://portaldenoticias.saude.sp.gov.br
X-WR-CALDESC:Eventos para SP Saúde
REFRESH-INTERVAL;VALUE=DURATION:PT1H
X-Robots-Tag:noindex
X-PUBLISHED-TTL:PT1H
BEGIN:VTIMEZONE
TZID:America/Sao_Paulo
BEGIN:STANDARD
TZOFFSETFROM:-0300
TZOFFSETTO:-0300
TZNAME:-03
DTSTART:20250101T000000
END:STANDARD
END:VTIMEZONE
BEGIN:VEVENT
DTSTART;VALUE=DATE:20250429
DTEND;VALUE=DATE:20250430
DTSTAMP:20260422T031151
CREATED:20250505T220400Z
LAST-MODIFIED:20250505T220413Z
UID:31167-1745884800-1745971199@portaldenoticias.saude.sp.gov.br
SUMMARY:Secretário de Estado da Saúde Eleuses Paiva
DESCRIPTION:11h30 – Encontro de lideranças empresariais do setor da saúde\nLocal: FIESP – Alameda Santos\, 1336 – Jardim Paulista \n13h – Reunião com representantes da Casa Hope\nLocal: SES/ Gabinete \n14h30 – Visita do José Fernando Macedo\, presidente da Associação Médica do Paraná (AMP)\nLocal: SES/Gabinete \n18h – Reunião com César Augusto Neves Luiz\, diretor geral da Secretaria da Saúde do Estado do Paraná (SESA); Raquel Mazetti\, coordenadora de contratualização da SESA; Diego Singolani\, secretário municipal da saúde de Ourinhos; os assessores Ivana Buassali\, Rogério Faber; os administradores da Santa Casa de Ourinhos\, Fernando Abreu e Elton; e Celia Maria Marafiotti Netto\, diretora do Departamento Regional de Saúde de Marília (DRS IX)\nPauta: Santa Casa de Ourinhos\nLocal: SES/Gabinete \n 
URL:https://portaldenoticias.saude.sp.gov.br/agenda/31167/
END:VEVENT
END:VCALENDAR