BEGIN:VCALENDAR
VERSION:2.0
PRODID:-//SP Saúde - ECPv6.5.1.5//NONSGML v1.0//EN
CALSCALE:GREGORIAN
METHOD:PUBLISH
X-WR-CALNAME:SP Saúde
X-ORIGINAL-URL:https://portaldenoticias.saude.sp.gov.br
X-WR-CALDESC:Eventos para SP Saúde
REFRESH-INTERVAL;VALUE=DURATION:PT1H
X-Robots-Tag:noindex
X-PUBLISHED-TTL:PT1H
BEGIN:VTIMEZONE
TZID:America/Sao_Paulo
BEGIN:STANDARD
TZOFFSETFROM:-0300
TZOFFSETTO:-0300
TZNAME:-03
DTSTART:20250101T000000
END:STANDARD
END:VTIMEZONE
BEGIN:VEVENT
DTSTART;VALUE=DATE:20250512
DTEND;VALUE=DATE:20250513
DTSTAMP:20260421T111703
CREATED:20250512T220046Z
LAST-MODIFIED:20250512T220046Z
UID:31176-1747008000-1747094399@portaldenoticias.saude.sp.gov.br
SUMMARY:Secretário de Estado da Saúde Eleuses Paiva
DESCRIPTION:9h – Despachos internos\nLocal: SES/ Gabinete \n14h30 – Reunião com o deputado federal Vitor Lippi; deputada estadual Maria Lucia Amary; Simoni Camargo\, secretária municipal de saúde de São Roque; Sandro Rizzi\, chefe de divisão da Prefeitura de São Roque; Vinícius Picirillo\, assessor jurídico; e os assessores Sandra Freitas e Clóvis Silveira e Leonardo Lima\nPauta: AME São Roque\nLocal: SES/ Gabinete \n15h – Reunião com o deputado estadual Rogério Nogueira; José Geraldo Garcia\, prefeito de Salto; Fernando Camargo\, secretário municipal de saúde de Salto; Mário Gilmar\, secretário municipal de governo; e os assessores Ana Flávia Oliveira\, Francisco Silva e Alessandro Didário\nPauta: AME Salto\nLocal: SES/ Gabinete \n16h – Reunião com o deputado estadual Oséias de Madureira\nPauta: demandas da região do ABC\nLocal: SES/ Gabinete
URL:https://portaldenoticias.saude.sp.gov.br/agenda/secretario-de-estado-da-saude-eleuses-paiva-174/
END:VEVENT
END:VCALENDAR