BEGIN:VCALENDAR
VERSION:2.0
PRODID:-//SP Saúde - ECPv6.5.1.5//NONSGML v1.0//EN
CALSCALE:GREGORIAN
METHOD:PUBLISH
X-ORIGINAL-URL:https://portaldenoticias.saude.sp.gov.br
X-WR-CALDESC:Eventos para SP Saúde
REFRESH-INTERVAL;VALUE=DURATION:PT1H
X-Robots-Tag:noindex
X-PUBLISHED-TTL:PT1H
BEGIN:VTIMEZONE
TZID:America/Sao_Paulo
BEGIN:STANDARD
TZOFFSETFROM:-0300
TZOFFSETTO:-0300
TZNAME:-03
DTSTART:20250101T000000
END:STANDARD
END:VTIMEZONE
BEGIN:VEVENT
DTSTART;VALUE=DATE:20250515
DTEND;VALUE=DATE:20250516
DTSTAMP:20260421T073332
CREATED:20250516T123911Z
LAST-MODIFIED:20250516T124655Z
UID:31195-1747267200-1747353599@portaldenoticias.saude.sp.gov.br
SUMMARY:Secretário de Estado da Saúde Eleuses Paiva
DESCRIPTION:15h – Reunião com o Ministro da Saúde\, Alexandre Padilha e a Diretoria do Conselho Nacional de Secretários de Saúde (CONASS)\nLocal: Esplanada dos Ministérios\, Bloco G\, 5º andar – gabinete
URL:https://portaldenoticias.saude.sp.gov.br/agenda/secretario-de-estado-da-saude-eleuses-paiva-181/
END:VEVENT
END:VCALENDAR