BEGIN:VCALENDAR
VERSION:2.0
PRODID:-//SP Saúde - ECPv6.5.1.5//NONSGML v1.0//EN
CALSCALE:GREGORIAN
METHOD:PUBLISH
X-WR-CALNAME:SP Saúde
X-ORIGINAL-URL:https://portaldenoticias.saude.sp.gov.br
X-WR-CALDESC:Eventos para SP Saúde
REFRESH-INTERVAL;VALUE=DURATION:PT1H
X-Robots-Tag:noindex
X-PUBLISHED-TTL:PT1H
BEGIN:VTIMEZONE
TZID:America/Sao_Paulo
BEGIN:STANDARD
TZOFFSETFROM:-0300
TZOFFSETTO:-0300
TZNAME:-03
DTSTART:20250101T000000
END:STANDARD
END:VTIMEZONE
BEGIN:VEVENT
DTSTART;VALUE=DATE:20250520
DTEND;VALUE=DATE:20250521
DTSTAMP:20260421T012910
CREATED:20250521T173737Z
LAST-MODIFIED:20250521T173737Z
UID:31199-1747699200-1747785599@portaldenoticias.saude.sp.gov.br
SUMMARY:Secretário de Estado da Saúde Eleuses Paiva
DESCRIPTION:8h – Reunião com Luiz Carlos Zamarco\, secretário municipal de Saúde de São Paulo e Marcelo Serpa\, secretário-adjunto\nPauta: demandas da região\nLocal: SES/Gabinete \n10h – Lançamento do Programa SuperAção SP.\nLocal: Auditório Ulysses Guimarães – Palácio dos Bandeirantes \n14h30 – Reunião com Edson Carlos\, prefeito de Monte Castelo\nPauta: demandas da região\nLocal: SES/Gabinete \n 
URL:https://portaldenoticias.saude.sp.gov.br/agenda/secretario-de-estado-da-saude-eleuses-paiva-182/
END:VEVENT
END:VCALENDAR