BEGIN:VCALENDAR
VERSION:2.0
PRODID:-//SP Saúde - ECPv6.5.1.5//NONSGML v1.0//EN
CALSCALE:GREGORIAN
METHOD:PUBLISH
X-WR-CALNAME:SP Saúde
X-ORIGINAL-URL:https://portaldenoticias.saude.sp.gov.br
X-WR-CALDESC:Eventos para SP Saúde
REFRESH-INTERVAL;VALUE=DURATION:PT1H
X-Robots-Tag:noindex
X-PUBLISHED-TTL:PT1H
BEGIN:VTIMEZONE
TZID:America/Sao_Paulo
BEGIN:STANDARD
TZOFFSETFROM:-0300
TZOFFSETTO:-0300
TZNAME:-03
DTSTART:20250101T000000
END:STANDARD
END:VTIMEZONE
BEGIN:VEVENT
DTSTART;VALUE=DATE:20250521
DTEND;VALUE=DATE:20250522
DTSTAMP:20260421T000101
CREATED:20250521T174911Z
LAST-MODIFIED:20250521T215009Z
UID:31205-1747785600-1747871999@portaldenoticias.saude.sp.gov.br
SUMMARY:Secretário de Estado da Saúde Eleuses Paiva
DESCRIPTION:10h – Visita do Dr. João Jorge\nLocal: SES/Gabinete \n10h30 – Reunião com Rosimeire Barbosa Silverio\, prefeita de Planalto e José Carlos Souza\nPauta: demandas da região\nLocal: SES/Gabinete \n11h – Reunião com Homero Lins\, prefeito de Rancharia e Paulo Adomaitis\, chefe de gabinete\nPauta: centro de especialidades médicas\nLocal: SES/Gabinete \n15h –Reunião com o deputado estadual Luiz Claudio Marcolino; Daniel Genova\, prefeito de Panorama; e a assessora Adriana Ferezim\nPauta: reforma no Pronto Atendimento\nLocal: SES/Gabinete \n15h30 –Reunião com o deputado estadual Luiz Claudio Marcolino; Meire Catelani\, prefeita de Bady Bassit e Renan Moura\, secretário municipal de Meio Ambiente e Urbanismo\nPauta: reforma da Emergência do Hospital Dia\nLocal: SES/Gabinete \n16h –Reunião com o deputado estadual Luiz Claudio Marcolino; Willians Soares Rodrigues\, prefeito de Juquitiba; e Sérgio Mendes\, secretário municipal de saúde\nPauta: Equipamentos para equipe emergência\nLocal: SES/Gabinete \n16h30 –Reunião com o deputado estadual Luiz Claudio Marcolino; Cristiano Soares\, prefeito de Murutinga do Sul e o assessor Paulo Cezar Aro\nPauta: demanda da região\nLocal: SES/Gabinete \n17h –Reunião com Carlos Gilberto Carlotti Junior\, reitor da Universidade de São Paulo; e o Prof. José Sebastião dos Santos\, diretor da Faculdade de Medicina de Bauru da USP\nPauta: Instituto Lauro Souza Lima\nLocal: SES/Gabinete \n18h –Reunião com Rogério Santos\, prefeito de Santos; e Fábio Lopez\, secretário municipal de saúde\nPauta: Instituto Lauro Souza Lima\nLocal: SES/Gabinete
URL:https://portaldenoticias.saude.sp.gov.br/agenda/secretario-de-estado-da-saude-eleuses-paiva-185/
END:VEVENT
END:VCALENDAR