BEGIN:VCALENDAR
VERSION:2.0
PRODID:-//SP Saúde - ECPv6.5.1.5//NONSGML v1.0//EN
CALSCALE:GREGORIAN
METHOD:PUBLISH
X-WR-CALNAME:SP Saúde
X-ORIGINAL-URL:https://portaldenoticias.saude.sp.gov.br
X-WR-CALDESC:Eventos para SP Saúde
REFRESH-INTERVAL;VALUE=DURATION:PT1H
X-Robots-Tag:noindex
X-PUBLISHED-TTL:PT1H
BEGIN:VTIMEZONE
TZID:America/Sao_Paulo
BEGIN:STANDARD
TZOFFSETFROM:-0300
TZOFFSETTO:-0300
TZNAME:-03
DTSTART:20250101T000000
END:STANDARD
END:VTIMEZONE
BEGIN:VEVENT
DTSTART;VALUE=DATE:20250603
DTEND;VALUE=DATE:20250604
DTSTAMP:20260420T071330
CREATED:20250603T175111Z
LAST-MODIFIED:20250603T175111Z
UID:31242-1748908800-1748995199@portaldenoticias.saude.sp.gov.br
SUMMARY:Secretário de Estado da Saúde Eleuses Paiva
DESCRIPTION:9h – Abertura do 3º Ciclo de Oficinas Macrorregionais – Percursos Assistenciais das Regiões de Barretos\, Ribeirão Preto e Franca\nLocal: Rua Rodovia Brigadeiro Faria Lima\, KM 428 – Parque do Peão (Auditório do Barretos Park Hotel) | Barretos/SP \n18h –Reunião com o governador Tarcísio de Freitas; secretário extraordinário de Projetos Estratégicos\, Guilherme Afif Domingos; e diretor do Instituto Butantan\, Esper Georges Kallás\nLocal: Palácio dos Bandeirantes
URL:https://portaldenoticias.saude.sp.gov.br/agenda/secretario-de-estado-da-saude-eleuses-paiva-193/
END:VEVENT
END:VCALENDAR